Workbook
Name ActiveM: 'חישובי עזר'!$K$5
Name ClientName: 'הכנסות והוצאות'!$C$6
Name CmpA: 'השוואת חודשים'!$C$6
Name CmpB: 'השוואת חודשים'!$H$6
Name IdxA: 'חישובי עזר'!$K$3
Name IdxB: 'חישובי עזר'!$K$4
Name LastIdx: 'חישובי עזר'!$K$6
Name Months: 'חישובי עזר'!$A$42:$A$53
Name Print_Area: דשבורד!$A$1:$O$102
Name Print_Area: 'השוואת חודשים'!$A$1:$O$50
Name Yr: 'הכנסות והוצאות'!$I$6

Sheet דשבורד
B2: דוח מעקב כלכלי
B4: =IF(ClientName="","",ClientName&" · ")&"שנת "&Yr -> שנת 2026
B6: סיכום מצטבר מתחילת השנה | C6: סה״כ הכנסות | F6: סה״כ הוצאות | I6: חיסכון והשקעות | L6: יתרה פנויה
C7: ='הכנסות והוצאות'!O18 -> 0 | F7: ='הכנסות והוצאות'!O59 -> 0 | I7: ='הכנסות והוצאות'!O57 -> 0 | L7: ='הכנסות והוצאות'!O61 -> 0
C9: ="ממוצע חודשי: "&TEXT('הכנסות והוצאות'!P18,"#,##0")&" ₪" -> ממוצע חודשי: 0 ₪ | F9: ="ממוצע חודשי: "&TEXT('הכנסות והוצאות'!P59,"#,##0")&" ₪" -> ממוצע חודשי: 0 ₪ | I9: ="שיעור חיסכון: "&TEXT('הכנסות והוצאות'!O62,"0%") -> שיעור חיסכון: 0% | L9: ="נשאר אחרי הוצאות וחיסכון" -> נשאר אחרי הוצאות וחיסכון
B10: רוצים שנעבור יחד על המספרים ונמצא איפה אפשר לחסוך ולהרוויח יותר? שלחו לי הודעה · ספיר קלרמן קומרוב
B11: סיכום חודשי ומצטבר
B12: חודש | C12: ינואר | D12: פברואר | E12: מרץ | F12: אפריל | G12: מאי | H12: יוני | I12: יולי | J12: אוגוסט | K12: ספטמבר | L12: אוקטובר | M12: נובמבר | N12: דצמבר
B13: הכנסות | C13: ='הכנסות והוצאות'!C18 -> 0 | D13: ='הכנסות והוצאות'!D18 -> 0 | E13: ='הכנסות והוצאות'!E18 -> 0 | F13: ='הכנסות והוצאות'!F18 -> 0 | G13: ='הכנסות והוצאות'!G18 -> 0 | H13: ='הכנסות והוצאות'!H18 -> 0 | I13: ='הכנסות והוצאות'!I18 -> 0 | J13: ='הכנסות והוצאות'!J18 -> 0 | ... N13: ='הכנסות והוצאות'!N18 -> 0
B14: הוצאות | C14: ='הכנסות והוצאות'!C59 -> 0 | D14: ='הכנסות והוצאות'!D59 -> 0 | E14: ='הכנסות והוצאות'!E59 -> 0 | F14: ='הכנסות והוצאות'!F59 -> 0 | G14: ='הכנסות והוצאות'!G59 -> 0 | H14: ='הכנסות והוצאות'!H59 -> 0 | I14: ='הכנסות והוצאות'!I59 -> 0 | J14: ='הכנסות והוצאות'!J59 -> 0 | ... N14: ='הכנסות והוצאות'!N59 -> 0
B15: חיסכון והשקעות | C15: ='הכנסות והוצאות'!C57 -> 0 | D15: ='הכנסות והוצאות'!D57 -> 0 | E15: ='הכנסות והוצאות'!E57 -> 0 | F15: ='הכנסות והוצאות'!F57 -> 0 | G15: ='הכנסות והוצאות'!G57 -> 0 | H15: ='הכנסות והוצאות'!H57 -> 0 | I15: ='הכנסות והוצאות'!I57 -> 0 | J15: ='הכנסות והוצאות'!J57 -> 0 | ... N15: ='הכנסות והוצאות'!N57 -> 0
B16: יתרה פנויה | C16: ='הכנסות והוצאות'!C61 -> 0 | D16: ='הכנסות והוצאות'!D61 -> 0 | E16: ='הכנסות והוצאות'!E61 -> 0 | F16: ='הכנסות והוצאות'!F61 -> 0 | G16: ='הכנסות והוצאות'!G61 -> 0 | H16: ='הכנסות והוצאות'!H61 -> 0 | I16: ='הכנסות והוצאות'!I61 -> 0 | J16: ='הכנסות והוצאות'!J61 -> 0 | ... N16: ='הכנסות והוצאות'!N61 -> 0
B17: שיעור חיסכון | C17: ='הכנסות והוצאות'!C62 -> 0 | D17: ='הכנסות והוצאות'!D62 -> 0 | E17: ='הכנסות והוצאות'!E62 -> 0 | F17: ='הכנסות והוצאות'!F62 -> 0 | G17: ='הכנסות והוצאות'!G62 -> 0 | H17: ='הכנסות והוצאות'!H62 -> 0 | I17: ='הכנסות והוצאות'!I62 -> 0 | J17: ='הכנסות והוצאות'!J62 -> 0 | ... N17: ='הכנסות והוצאות'!N62 -> 0
B18: מצטבר מתחילת השנה
B19: הכנסות מצטבר | C19: =IF(1>LastIdx,"",'חישובי עזר'!I42) | D19: =IF(2>LastIdx,"",'חישובי עזר'!I43) | E19: =IF(3>LastIdx,"",'חישובי עזר'!I44) | F19: =IF(4>LastIdx,"",'חישובי עזר'!I45) | G19: =IF(5>LastIdx,"",'חישובי עזר'!I46) | H19: =IF(6>LastIdx,"",'חישובי עזר'!I47) | I19: =IF(7>LastIdx,"",'חישובי עזר'!I48) | J19: =IF(8>LastIdx,"",'חישובי עזר'!I49) | K19: =IF(9>LastIdx,"",'חישובי עזר'!I50) | L19: =IF(10>LastIdx,"",'חישובי עזר'!I51) | M19: =IF(11>LastIdx,"",'חישובי עזר'!I52) | N19: =IF(12>LastIdx,"",'חישובי עזר'!I53)
B20: הוצאות מצטבר | C20: =IF(1>LastIdx,"",'חישובי עזר'!J42) | D20: =IF(2>LastIdx,"",'חישובי עזר'!J43) | E20: =IF(3>LastIdx,"",'חישובי עזר'!J44) | F20: =IF(4>LastIdx,"",'חישובי עזר'!J45) | G20: =IF(5>LastIdx,"",'חישובי עזר'!J46) | H20: =IF(6>LastIdx,"",'חישובי עזר'!J47) | I20: =IF(7>LastIdx,"",'חישובי עזר'!J48) | J20: =IF(8>LastIdx,"",'חישובי עזר'!J49) | K20: =IF(9>LastIdx,"",'חישובי עזר'!J50) | L20: =IF(10>LastIdx,"",'חישובי עזר'!J51) | M20: =IF(11>LastIdx,"",'חישובי עזר'!J52) | N20: =IF(12>LastIdx,"",'חישובי עזר'!J53)
B21: נשאר מצטבר (הכנסות פחות הוצאות) | C21: =IF(1>LastIdx,"",'חישובי עזר'!K42) | D21: =IF(2>LastIdx,"",'חישובי עזר'!K43) | E21: =IF(3>LastIdx,"",'חישובי עזר'!K44) | F21: =IF(4>LastIdx,"",'חישובי עזר'!K45) | G21: =IF(5>LastIdx,"",'חישובי עזר'!K46) | H21: =IF(6>LastIdx,"",'חישובי עזר'!K47) | I21: =IF(7>LastIdx,"",'חישובי עזר'!K48) | J21: =IF(8>LastIdx,"",'חישובי עזר'!K49) | K21: =IF(9>LastIdx,"",'חישובי עזר'!K50) | L21: =IF(10>LastIdx,"",'חישובי עזר'!K51) | M21: =IF(11>LastIdx,"",'חישובי עזר'!K52) | N21: =IF(12>LastIdx,"",'חישובי עזר'!K53)
B23: המגמה לאורך השנה
B42: לאן הולך הכסף ומאיפה הוא מגיע
B60: פירוט הקטגוריות המובילות
B61: קטגוריות הוצאות | D61: סכום שנתי | E61: % מהסך | H61: קטגוריות הכנסות | J61: סכום שנתי | K61: % מהסך
B62: =IF('חישובי עזר'!O3="","",INDEX('חישובי עזר'!$A$3:$A$25,'חישובי עזר'!O3)) | D62: =IF('חישובי עזר'!O3="","",INDEX('חישובי עזר'!$B$3:$B$25,'חישובי עזר'!O3)) | E62: =IF(OR(D62="",'הכנסות והוצאות'!O59=0),"",D62/'הכנסות והוצאות'!O59) | H62: =IF('חישובי עזר'!P3="","",INDEX('חישובי עזר'!$A$30:$A$37,'חישובי עזר'!P3)) | J62: =IF('חישובי עזר'!P3="","",INDEX('חישובי עזר'!$B$30:$B$37,'חישובי עזר'!P3)) | K62: =IF(OR(J62="",'הכנסות והוצאות'!O18=0),"",J62/'הכנסות והוצאות'!O18)
B63: =IF('חישובי עזר'!O4="","",INDEX('חישובי עזר'!$A$3:$A$25,'חישובי עזר'!O4)) | D63: =IF('חישובי עזר'!O4="","",INDEX('חישובי עזר'!$B$3:$B$25,'חישובי עזר'!O4)) | E63: =IF(OR(D63="",'הכנסות והוצאות'!O59=0),"",D63/'הכנסות והוצאות'!O59) | H63: =IF('חישובי עזר'!P4="","",INDEX('חישובי עזר'!$A$30:$A$37,'חישובי עזר'!P4)) | J63: =IF('חישובי עזר'!P4="","",INDEX('חישובי עזר'!$B$30:$B$37,'חישובי עזר'!P4)) | K63: =IF(OR(J63="",'הכנסות והוצאות'!O18=0),"",J63/'הכנסות והוצאות'!O18)
B64: =IF('חישובי עזר'!O5="","",INDEX('חישובי עזר'!$A$3:$A$25,'חישובי עזר'!O5)) | D64: =IF('חישובי עזר'!O5="","",INDEX('חישובי עזר'!$B$3:$B$25,'חישובי עזר'!O5)) | E64: =IF(OR(D64="",'הכנסות והוצאות'!O59=0),"",D64/'הכנסות והוצאות'!O59) | H64: =IF('חישובי עזר'!P5="","",INDEX('חישובי עזר'!$A$30:$A$37,'חישובי עזר'!P5)) | J64: =IF('חישובי עזר'!P5="","",INDEX('חישובי עזר'!$B$30:$B$37,'חישובי עזר'!P5)) | K64: =IF(OR(J64="",'הכנסות והוצאות'!O18=0),"",J64/'הכנסות והוצאות'!O18)
B65: =IF('חישובי עזר'!O6="","",INDEX('חישובי עזר'!$A$3:$A$25,'חישובי עזר'!O6)) | D65: =IF('חישובי עזר'!O6="","",INDEX('חישובי עזר'!$B$3:$B$25,'חישובי עזר'!O6)) | E65: =IF(OR(D65="",'הכנסות והוצאות'!O59=0),"",D65/'הכנסות והוצאות'!O59) | H65: =IF('חישובי עזר'!P6="","",INDEX('חישובי עזר'!$A$30:$A$37,'חישובי עזר'!P6)) | J65: =IF('חישובי עזר'!P6="","",INDEX('חישובי עזר'!$B$30:$B$37,'חישובי עזר'!P6)) | K65: =IF(OR(J65="",'הכנסות והוצאות'!O18=0),"",J65/'הכנסות והוצאות'!O18)
B66: =IF('חישובי עזר'!O7="","",INDEX('חישובי עזר'!$A$3:$A$25,'חישובי עזר'!O7)) | D66: =IF('חישובי עזר'!O7="","",INDEX('חישובי עזר'!$B$3:$B$25,'חישובי עזר'!O7)) | E66: =IF(OR(D66="",'הכנסות והוצאות'!O59=0),"",D66/'הכנסות והוצאות'!O59) | H66: =IF('חישובי עזר'!P7="","",INDEX('חישובי עזר'!$A$30:$A$37,'חישובי עזר'!P7)) | J66: =IF('חישובי עזר'!P7="","",INDEX('חישובי עזר'!$B$30:$B$37,'חישובי עזר'!P7)) | K66: =IF(OR(J66="",'הכנסות והוצאות'!O18=0),"",J66/'הכנסות והוצאות'!O18)
B67: =IF('חישובי עזר'!O8="","",INDEX('חישובי עזר'!$A$3:$A$25,'חישובי עזר'!O8)) | D67: =IF('חישובי עזר'!O8="","",INDEX('חישובי עזר'!$B$3:$B$25,'חישובי עזר'!O8)) | E67: =IF(OR(D67="",'הכנסות והוצאות'!O59=0),"",D67/'הכנסות והוצאות'!O59) | H67: =IF('חישובי עזר'!P8="","",INDEX('חישובי עזר'!$A$30:$A$37,'חישובי עזר'!P8)) | J67: =IF('חישובי עזר'!P8="","",INDEX('חישובי עזר'!$B$30:$B$37,'חישובי עזר'!P8)) | K67: =IF(OR(J67="",'הכנסות והוצאות'!O18=0),"",J67/'הכנסות והוצאות'!O18)
B68: =IF('חישובי עזר'!O9="","",INDEX('חישובי עזר'!$A$3:$A$25,'חישובי עזר'!O9)) | D68: =IF('חישובי עזר'!O9="","",INDEX('חישובי עזר'!$B$3:$B$25,'חישובי עזר'!O9)) | E68: =IF(OR(D68="",'הכנסות והוצאות'!O59=0),"",D68/'הכנסות והוצאות'!O59) | H68: =IF('הכנסות והוצאות'!O18-SUM(J62:J67)>0.5,"אחר","") | J68: =IF(H68="","",'הכנסות והוצאות'!O18-SUM(J62:J67)) | K68: =IF(OR(J68="",'הכנסות והוצאות'!O18=0),"",J68/'הכנסות והוצאות'!O18)
B69: =IF('חישובי עזר'!O10="","",INDEX('חישובי עזר'!$A$3:$A$25,'חישובי עזר'!O10)) | D69: =IF('חישובי עזר'!O10="","",INDEX('חישובי עזר'!$B$3:$B$25,'חישובי עזר'!O10)) | E69: =IF(OR(D69="",'הכנסות והוצאות'!O59=0),"",D69/'הכנסות והוצאות'!O59) | H69: סה״כ הכנסות | J69: ='הכנסות והוצאות'!O18 -> 0
B70: =IF('הכנסות והוצאות'!O59-SUM(D62:D69)>0.5,"אחר","") | D70: =IF(B70="","",'הכנסות והוצאות'!O59-SUM(D62:D69)) | E70: =IF(OR(D70="",'הכנסות והוצאות'!O59=0),"",D70/'הכנסות והוצאות'!O59)
B71: סה״כ הוצאות | D71: ='הכנסות והוצאות'!O59 -> 0
B73: האם עמדתי ביעדים? תקציב מול ביצוע
B91: תקציב מול ביצוע (ממוצע חודשי)
B92: קבוצה | D92: תקציב / יעד | F92: ממוצע בפועל | H92: ניצול | J92: מצב
B93: הוצאות קבועות | D93: ='הכנסות והוצאות'!Q29 -> 0 | F93: ='הכנסות והוצאות'!P29 -> 0 | H93: =IF(D93=0,"",F93/D93) | J93: =IF(D93=0,"",IF(F93<=D93,"✓ במסגרת","▲ חריגה"))
B94: הוצאות משתנות | D94: ='הכנסות והוצאות'!Q44 -> 0 | F94: ='הכנסות והוצאות'!P44 -> 0 | H94: =IF(D94=0,"",F94/D94) | J94: =IF(D94=0,"",IF(F94<=D94,"✓ במסגרת","▲ חריגה"))
B95: הלוואות וחובות | D95: ='הכנסות והוצאות'!Q50 -> 0 | F95: ='הכנסות והוצאות'!P50 -> 0 | H95: =IF(D95=0,"",F95/D95) | J95: =IF(D95=0,"",IF(F95<=D95,"✓ במסגרת","▲ חריגה"))
B96: חיסכון והשקעות | D96: ='הכנסות והוצאות'!Q57 -> 0 | F96: ='הכנסות והוצאות'!P57 -> 0 | H96: =IF(D96=0,"",F96/D96) | J96: =IF(D96=0,"",IF(F96>=D96,"✓ הושג","נמוך מהיעד"))
B99: הוכן על ידי ספיר קלרמן קומרוב – סוכנת ביטוח ופנסיה, כלכלנית וליווי כלכלי למשפחות
B100: הדוח הוא כלי עזר אישי לניהול תקציב ואינו מהווה ייעוץ פיננסי, השקעות, ביטוח או פנסיה. הנתונים והחישובים מבוססים על מה שהמשתמש מזין, וכל השימוש בקובץ ובתוצאותיו הוא על אחריות המשתמש בלבד.

Sheet הכנסות והוצאות
B2: הכנסות והוצאות חודשיות
B4: מלאו סכום לכל קטגוריה בכל חודש – התאים הכחולים בלבד. אפשר לשנות שמות קטגוריות. הדשבורד וההשוואה מתעדכנים לבד.
B6: שם הלקוח/ה | H6: שנה | I6: 2026 | K6: טיפ: אם אין הוצאה בקטגוריה – משאירים ריק. קטגוריה חדשה? כותבים שם בשורה ריקה.
B8: קטגוריה | C8: ינואר | D8: פברואר | E8: מרץ | F8: אפריל | G8: מאי | H8: יוני | I8: יולי | J8: אוגוסט | K8: ספטמבר | L8: אוקטובר | M8: נובמבר | N8: דצמבר | O8: סה״כ שנתי | P8: ממוצע חודשי | Q8: תקציב / יעד חודשי | R8: מצב
B9: הכנסות
B10: משכורת (ראשי) | O10: =SUM(C10:N10) -> 0 | P10: =IF(ActiveM=0,0,O10/ActiveM) -> 0
B11: משכורת (בן/בת זוג) | O11: =SUM(C11:N11) -> 0 | P11: =IF(ActiveM=0,0,O11/ActiveM) -> 0
B12: הכנסה מעסק / עבודה צדדית | O12: =SUM(C12:N12) -> 0 | P12: =IF(ActiveM=0,0,O12/ActiveM) -> 0
B13: קצבאות | O13: =SUM(C13:N13) -> 0 | P13: =IF(ActiveM=0,0,O13/ActiveM) -> 0
B14: הכנסה משכירות | O14: =SUM(C14:N14) -> 0 | P14: =IF(ActiveM=0,0,O14/ActiveM) -> 0
B15: ריבית והשקעות | O15: =SUM(C15:N15) -> 0 | P15: =IF(ActiveM=0,0,O15/ActiveM) -> 0
B16: אחר / החזרי מס | O16: =SUM(C16:N16) -> 0 | P16: =IF(ActiveM=0,0,O16/ActiveM) -> 0
O17: =SUM(C17:N17) -> 0 | P17: =IF(ActiveM=0,0,O17/ActiveM) -> 0
B18: סה״כ הכנסות | C18: =SUM(C10:C17) -> 0 | D18: =SUM(D10:D17) -> 0 | E18: =SUM(E10:E17) -> 0 | F18: =SUM(F10:F17) -> 0 | G18: =SUM(G10:G17) -> 0 | H18: =SUM(H10:H17) -> 0 | I18: =SUM(I10:I17) -> 0 | J18: =SUM(J10:J17) -> 0 | ... O18: =SUM(O10:O17) -> 0 | P18: =IF(ActiveM=0,0,O18/ActiveM) -> 0
B20: הוצאות קבועות
B21: דיור – שכירות / משכנתא | O21: =SUM(C21:N21) -> 0 | P21: =IF(ActiveM=0,0,O21/ActiveM) -> 0 | R21: =IF(Q21="","",IF(P21>Q21,"▲ חריגה","✓ במסגרת"))
B22: ארנונה וועד בית | O22: =SUM(C22:N22) -> 0 | P22: =IF(ActiveM=0,0,O22/ActiveM) -> 0 | R22: =IF(Q22="","",IF(P22>Q22,"▲ חריגה","✓ במסגרת"))
B23: חשמל, מים וגז | O23: =SUM(C23:N23) -> 0 | P23: =IF(ActiveM=0,0,O23/ActiveM) -> 0 | R23: =IF(Q23="","",IF(P23>Q23,"▲ חריגה","✓ במסגרת"))
B24: תקשורת ואינטרנט | O24: =SUM(C24:N24) -> 0 | P24: =IF(ActiveM=0,0,O24/ActiveM) -> 0 | R24: =IF(Q24="","",IF(P24>Q24,"▲ חריגה","✓ במסגרת"))
B25: ביטוחים | O25: =SUM(C25:N25) -> 0 | P25: =IF(ActiveM=0,0,O25/ActiveM) -> 0 | R25: =IF(Q25="","",IF(P25>Q25,"▲ חריגה","✓ במסגרת"))
B26: גן, צהרון וחוגים | O26: =SUM(C26:N26) -> 0 | P26: =IF(ActiveM=0,0,O26/ActiveM) -> 0 | R26: =IF(Q26="","",IF(P26>Q26,"▲ חריגה","✓ במסגרת"))
B27: מנויים ושירותים דיגיטליים | O27: =SUM(C27:N27) -> 0 | P27: =IF(ActiveM=0,0,O27/ActiveM) -> 0 | R27: =IF(Q27="","",IF(P27>Q27,"▲ חריגה","✓ במסגרת"))
O28: =SUM(C28:N28) -> 0 | P28: =IF(ActiveM=0,0,O28/ActiveM) -> 0 | R28: =IF(Q28="","",IF(P28>Q28,"▲ חריגה","✓ במסגרת"))
B29: סה״כ הוצאות קבועות | C29: =SUM(C21:C28) -> 0 | D29: =SUM(D21:D28) -> 0 | E29: =SUM(E21:E28) -> 0 | F29: =SUM(F21:F28) -> 0 | G29: =SUM(G21:G28) -> 0 | H29: =SUM(H21:H28) -> 0 | I29: =SUM(I21:I28) -> 0 | J29: =SUM(J21:J28) -> 0 | ... O29: =SUM(O21:O28) -> 0 | P29: =IF(ActiveM=0,0,O29/ActiveM) -> 0 | Q29: =SUM(Q21:Q28) -> 0
B31: הוצאות משתנות
B32: סופר ומזון | O32: =SUM(C32:N32) -> 0 | P32: =IF(ActiveM=0,0,O32/ActiveM) -> 0 | R32: =IF(Q32="","",IF(P32>Q32,"▲ חריגה","✓ במסגרת"))
B33: תחבורה ודלק | O33: =SUM(C33:N33) -> 0 | P33: =IF(ActiveM=0,0,O33/ActiveM) -> 0 | R33: =IF(Q33="","",IF(P33>Q33,"▲ חריגה","✓ במסגרת"))
B34: בריאות | O34: =SUM(C34:N34) -> 0 | P34: =IF(ActiveM=0,0,O34/ActiveM) -> 0 | R34: =IF(Q34="","",IF(P34>Q34,"▲ חריגה","✓ במסגרת"))
B35: מסעדות וקפה | O35: =SUM(C35:N35) -> 0 | P35: =IF(ActiveM=0,0,O35/ActiveM) -> 0 | R35: =IF(Q35="","",IF(P35>Q35,"▲ חריגה","✓ במסגרת"))
B36: ביגוד והנעלה | O36: =SUM(C36:N36) -> 0 | P36: =IF(ActiveM=0,0,O36/ActiveM) -> 0 | R36: =IF(Q36="","",IF(P36>Q36,"▲ חריגה","✓ במסגרת"))
B37: בילויים ופנאי | O37: =SUM(C37:N37) -> 0 | P37: =IF(ActiveM=0,0,O37/ActiveM) -> 0 | R37: =IF(Q37="","",IF(P37>Q37,"▲ חריגה","✓ במסגרת"))
B38: חופשות ונסיעות | O38: =SUM(C38:N38) -> 0 | P38: =IF(ActiveM=0,0,O38/ActiveM) -> 0 | R38: =IF(Q38="","",IF(P38>Q38,"▲ חריגה","✓ במסגרת"))
B39: בית ותחזוקה | O39: =SUM(C39:N39) -> 0 | P39: =IF(ActiveM=0,0,O39/ActiveM) -> 0 | R39: =IF(Q39="","",IF(P39>Q39,"▲ חריגה","✓ במסגרת"))
B40: טיפוח ויופי | O40: =SUM(C40:N40) -> 0 | P40: =IF(ActiveM=0,0,O40/ActiveM) -> 0 | R40: =IF(Q40="","",IF(P40>Q40,"▲ חריגה","✓ במסגרת"))
B41: מתנות ותרומות | O41: =SUM(C41:N41) -> 0 | P41: =IF(ActiveM=0,0,O41/ActiveM) -> 0 | R41: =IF(Q41="","",IF(P41>Q41,"▲ חריגה","✓ במסגרת"))
B42: אחר / לא צפוי | O42: =SUM(C42:N42) -> 0 | P42: =IF(ActiveM=0,0,O42/ActiveM) -> 0 | R42: =IF(Q42="","",IF(P42>Q42,"▲ חריגה","✓ במסגרת"))
O43: =SUM(C43:N43) -> 0 | P43: =IF(ActiveM=0,0,O43/ActiveM) -> 0 | R43: =IF(Q43="","",IF(P43>Q43,"▲ חריגה","✓ במסגרת"))
B44: סה״כ הוצאות משתנות | C44: =SUM(C32:C43) -> 0 | D44: =SUM(D32:D43) -> 0 | E44: =SUM(E32:E43) -> 0 | F44: =SUM(F32:F43) -> 0 | G44: =SUM(G32:G43) -> 0 | H44: =SUM(H32:H43) -> 0 | I44: =SUM(I32:I43) -> 0 | J44: =SUM(J32:J43) -> 0 | ... O44: =SUM(O32:O43) -> 0 | P44: =IF(ActiveM=0,0,O44/ActiveM) -> 0 | Q44: =SUM(Q32:Q43) -> 0
B46: הלוואות וחובות
B47: הלוואה בנקאית | O47: =SUM(C47:N47) -> 0 | P47: =IF(ActiveM=0,0,O47/ActiveM) -> 0 | R47: =IF(Q47="","",IF(P47>Q47,"▲ חריגה","✓ במסגרת"))
B48: החזר תשלומים / כרטיס אשראי | O48: =SUM(C48:N48) -> 0 | P48: =IF(ActiveM=0,0,O48/ActiveM) -> 0 | R48: =IF(Q48="","",IF(P48>Q48,"▲ חריגה","✓ במסגרת"))
O49: =SUM(C49:N49) -> 0 | P49: =IF(ActiveM=0,0,O49/ActiveM) -> 0 | R49: =IF(Q49="","",IF(P49>Q49,"▲ חריגה","✓ במסגרת"))
B50: סה״כ הלוואות וחובות | C50: =SUM(C47:C49) -> 0 | D50: =SUM(D47:D49) -> 0 | E50: =SUM(E47:E49) -> 0 | F50: =SUM(F47:F49) -> 0 | G50: =SUM(G47:G49) -> 0 | H50: =SUM(H47:H49) -> 0 | I50: =SUM(I47:I49) -> 0 | J50: =SUM(J47:J49) -> 0 | ... O50: =SUM(O47:O49) -> 0 | P50: =IF(ActiveM=0,0,O50/ActiveM) -> 0 | Q50: =SUM(Q47:Q49) -> 0
B52: חיסכון והשקעות
B53: קרן חירום | O53: =SUM(C53:N53) -> 0 | P53: =IF(ActiveM=0,0,O53/ActiveM) -> 0 | R53: =IF(Q53="","",IF(P53>=Q53,"✓ הושג","נמוך מהיעד"))
B54: חיסכון לילדים | O54: =SUM(C54:N54) -> 0 | P54: =IF(ActiveM=0,0,O54/ActiveM) -> 0 | R54: =IF(Q54="","",IF(P54>=Q54,"✓ הושג","נמוך מהיעד"))
B55: קופת גמל | O55: =SUM(C55:N55) -> 0 | P55: =IF(ActiveM=0,0,O55/ActiveM) -> 0 | R55: =IF(Q55="","",IF(P55>=Q55,"✓ הושג","נמוך מהיעד"))
B56: השקעות בשוק ההון | O56: =SUM(C56:N56) -> 0 | P56: =IF(ActiveM=0,0,O56/ActiveM) -> 0 | R56: =IF(Q56="","",IF(P56>=Q56,"✓ הושג","נמוך מהיעד"))
B57: סה״כ חיסכון והשקעות | C57: =SUM(C53:C56) -> 0 | D57: =SUM(D53:D56) -> 0 | E57: =SUM(E53:E56) -> 0 | F57: =SUM(F53:F56) -> 0 | G57: =SUM(G53:G56) -> 0 | H57: =SUM(H53:H56) -> 0 | I57: =SUM(I53:I56) -> 0 | J57: =SUM(J53:J56) -> 0 | ... O57: =SUM(O53:O56) -> 0 | P57: =IF(ActiveM=0,0,O57/ActiveM) -> 0 | Q57: =SUM(Q53:Q56) -> 0
B58: סיכום
B59: סה״כ הוצאות (קבועות + משתנות + הלוואות) | C59: =C29+C44+C50 -> 0 | D59: =D29+D44+D50 -> 0 | E59: =E29+E44+E50 -> 0 | F59: =F29+F44+F50 -> 0 | G59: =G29+G44+G50 -> 0 | H59: =H29+H44+H50 -> 0 | I59: =I29+I44+I50 -> 0 | J59: =J29+J44+J50 -> 0 | ... O59: =O29+O44+O50 -> 0 | P59: =IF(ActiveM=0,0,O59/ActiveM) -> 0
B60: נשאר אחרי הוצאות | C60: =C18-C59 -> 0 | D60: =D18-D59 -> 0 | E60: =E18-E59 -> 0 | F60: =F18-F59 -> 0 | G60: =G18-G59 -> 0 | H60: =H18-H59 -> 0 | I60: =I18-I59 -> 0 | J60: =J18-J59 -> 0 | ... O60: =O18-O59 -> 0 | P60: =IF(ActiveM=0,0,O60/ActiveM) -> 0
B61: יתרה פנויה (אחרי חיסכון) | C61: =C60-C57 -> 0 | D61: =D60-D57 -> 0 | E61: =E60-E57 -> 0 | F61: =F60-F57 -> 0 | G61: =G60-G57 -> 0 | H61: =H60-H57 -> 0 | I61: =I60-I57 -> 0 | J61: =J60-J57 -> 0 | ... O61: =O60-O57 -> 0 | P61: =IF(ActiveM=0,0,O61/ActiveM) -> 0
B62: שיעור חיסכון מההכנסה | C62: =IF(C18>0,C57/C18,0) -> 0 | D62: =IF(D18>0,D57/D18,0) -> 0 | E62: =IF(E18>0,E57/E18,0) -> 0 | F62: =IF(F18>0,F57/F18,0) -> 0 | G62: =IF(G18>0,G57/G18,0) -> 0 | H62: =IF(H18>0,H57/H18,0) -> 0 | I62: =IF(I18>0,I57/I18,0) -> 0 | J62: =IF(J18>0,J57/J18,0) -> 0 | ... O62: =IF(O18>0,O57/O18,0) -> 0
B64: הוכן על ידי ספיר קלרמן קומרוב – סוכנת ביטוח ופנסיה, כלכלנית וליווי כלכלי למשפחות
B65: הדוח הוא כלי עזר אישי לניהול תקציב ואינו מהווה ייעוץ פיננסי, השקעות, ביטוח או פנסיה. הנתונים והחישובים מבוססים על מה שהמשתמש מזין, וכל השימוש בקובץ ובתוצאותיו הוא על אחריות המשתמש בלבד.

Sheet השוואת חודשים
B2: השוואת חודשים
B4: בחרו שני חודשים – הטבלאות והגרף יתעדכנו מיד
B6: חודש בסיס | C6: ינואר | F6: חודש להשוואה | H6: פברואר
B8: =CmpB&" לעומת "&CmpA&": ההכנסות "&IF(E13>=0,"עלו","ירדו")&" ב-"&TEXT(ABS(E13),"#,##0")&" ₪, ההוצאות "&IF(E14>=0,"עלו","ירדו")&" ב-"&TEXT(ABS(E14),"#,##0")&" ₪, והיתרה הפנויה "&IF(E16>=0,"עלתה","ירדה")&" ב-"&TEXT(ABS(E16),"#,##0")&" ₪." -> פברואר לעומת ינואר: ההכנסות עלו ב-0 ₪, ההוצאות עלו ב-0 ₪, והיתרה הפנויה עלתה ב-0 ₪.
B11: סיכום ההשוואה
B12: מדד | C12: =CmpA -> ינואר | D12: =CmpB -> פברואר | E12: הפרש ₪ | F12: שינוי %
B13: הכנסות | C13: =INDEX('חישובי עזר'!B42:B53,IdxA) -> 0 | D13: =INDEX('חישובי עזר'!B42:B53,IdxB) -> 0 | E13: =D13-C13 -> 0 | F13: =IF(C13<=0,"",E13/C13)
B14: הוצאות | C14: =INDEX('חישובי עזר'!C42:C53,IdxA) -> 0 | D14: =INDEX('חישובי עזר'!C42:C53,IdxB) -> 0 | E14: =D14-C14 -> 0 | F14: =IF(C14<=0,"",E14/C14)
B15: חיסכון והשקעות | C15: =INDEX('חישובי עזר'!D42:D53,IdxA) -> 0 | D15: =INDEX('חישובי עזר'!D42:D53,IdxB) -> 0 | E15: =D15-C15 -> 0 | F15: =IF(C15<=0,"",E15/C15)
B16: יתרה פנויה | C16: =INDEX('חישובי עזר'!E42:E53,IdxA) -> 0 | D16: =INDEX('חישובי עזר'!E42:E53,IdxB) -> 0 | E16: =D16-C16 -> 0 | F16: =IF(C16<=0,"",E16/C16)
B17: שיעור חיסכון | C17: =INDEX('חישובי עזר'!F42:F53,IdxA) -> 0 | D17: =INDEX('חישובי עזר'!F42:F53,IdxB) -> 0 | E17: =ROUND(D17-C17,3) -> 0 | F17: =""
B25: בקטגוריות ההוצאה – מה השתנה הכי הרבה?
B26: עלו הכי הרבה | H26: ירדו הכי הרבה
B27: קטגוריה | C27: =CmpA -> ינואר | D27: =CmpB -> פברואר | E27: הפרש ₪ | F27: שינוי % | H27: קטגוריה | J27: =CmpA -> ינואר | K27: =CmpB -> פברואר | L27: הפרש ₪ | M27: שינוי %
B28: =IF('חישובי עזר'!M3="","",INDEX('חישובי עזר'!$A$3:$A$25,'חישובי עזר'!M3)) | C28: =IF('חישובי עזר'!M3="","",INDEX('חישובי עזר'!$C$3:$C$25,'חישובי עזר'!M3)) | D28: =IF('חישובי עזר'!M3="","",INDEX('חישובי עזר'!$D$3:$D$25,'חישובי עזר'!M3)) | E28: =IF('חישובי עזר'!M3="","",INDEX('חישובי עזר'!$E$3:$E$25,'חישובי עזר'!M3)) | F28: =IF(OR(C28="",C28=0),"",E28/C28) | H28: =IF('חישובי עזר'!N3="","",INDEX('חישובי עזר'!$A$3:$A$25,'חישובי עזר'!N3)) | J28: =IF('חישובי עזר'!N3="","",INDEX('חישובי עזר'!$C$3:$C$25,'חישובי עזר'!N3)) | K28: =IF('חישובי עזר'!N3="","",INDEX('חישובי עזר'!$D$3:$D$25,'חישובי עזר'!N3)) | L28: =IF('חישובי עזר'!N3="","",INDEX('חישובי עזר'!$E$3:$E$25,'חישובי עזר'!N3)) | M28: =IF(OR(J28="",J28=0),"",L28/J28)
B29: =IF('חישובי עזר'!M4="","",INDEX('חישובי עזר'!$A$3:$A$25,'חישובי עזר'!M4)) | C29: =IF('חישובי עזר'!M4="","",INDEX('חישובי עזר'!$C$3:$C$25,'חישובי עזר'!M4)) | D29: =IF('חישובי עזר'!M4="","",INDEX('חישובי עזר'!$D$3:$D$25,'חישובי עזר'!M4)) | E29: =IF('חישובי עזר'!M4="","",INDEX('חישובי עזר'!$E$3:$E$25,'חישובי עזר'!M4)) | F29: =IF(OR(C29="",C29=0),"",E29/C29) | H29: =IF('חישובי עזר'!N4="","",INDEX('חישובי עזר'!$A$3:$A$25,'חישובי עזר'!N4)) | J29: =IF('חישובי עזר'!N4="","",INDEX('חישובי עזר'!$C$3:$C$25,'חישובי עזר'!N4)) | K29: =IF('חישובי עזר'!N4="","",INDEX('חישובי עזר'!$D$3:$D$25,'חישובי עזר'!N4)) | L29: =IF('חישובי עזר'!N4="","",INDEX('חישובי עזר'!$E$3:$E$25,'חישובי עזר'!N4)) | M29: =IF(OR(J29="",J29=0),"",L29/J29)
B30: =IF('חישובי עזר'!M5="","",INDEX('חישובי עזר'!$A$3:$A$25,'חישובי עזר'!M5)) | C30: =IF('חישובי עזר'!M5="","",INDEX('חישובי עזר'!$C$3:$C$25,'חישובי עזר'!M5)) | D30: =IF('חישובי עזר'!M5="","",INDEX('חישובי עזר'!$D$3:$D$25,'חישובי עזר'!M5)) | E30: =IF('חישובי עזר'!M5="","",INDEX('חישובי עזר'!$E$3:$E$25,'חישובי עזר'!M5)) | F30: =IF(OR(C30="",C30=0),"",E30/C30) | H30: =IF('חישובי עזר'!N5="","",INDEX('חישובי עזר'!$A$3:$A$25,'חישובי עזר'!N5)) | J30: =IF('חישובי עזר'!N5="","",INDEX('חישובי עזר'!$C$3:$C$25,'חישובי עזר'!N5)) | K30: =IF('חישובי עזר'!N5="","",INDEX('חישובי עזר'!$D$3:$D$25,'חישובי עזר'!N5)) | L30: =IF('חישובי עזר'!N5="","",INDEX('חישובי עזר'!$E$3:$E$25,'חישובי עזר'!N5)) | M30: =IF(OR(J30="",J30=0),"",L30/J30)
B31: =IF('חישובי עזר'!M6="","",INDEX('חישובי עזר'!$A$3:$A$25,'חישובי עזר'!M6)) | C31: =IF('חישובי עזר'!M6="","",INDEX('חישובי עזר'!$C$3:$C$25,'חישובי עזר'!M6)) | D31: =IF('חישובי עזר'!M6="","",INDEX('חישובי עזר'!$D$3:$D$25,'חישובי עזר'!M6)) | E31: =IF('חישובי עזר'!M6="","",INDEX('חישובי עזר'!$E$3:$E$25,'חישובי עזר'!M6)) | F31: =IF(OR(C31="",C31=0),"",E31/C31) | H31: =IF('חישובי עזר'!N6="","",INDEX('חישובי עזר'!$A$3:$A$25,'חישובי עזר'!N6)) | J31: =IF('חישובי עזר'!N6="","",INDEX('חישובי עזר'!$C$3:$C$25,'חישובי עזר'!N6)) | K31: =IF('חישובי עזר'!N6="","",INDEX('חישובי עזר'!$D$3:$D$25,'חישובי עזר'!N6)) | L31: =IF('חישובי עזר'!N6="","",INDEX('חישובי עזר'!$E$3:$E$25,'חישובי עזר'!N6)) | M31: =IF(OR(J31="",J31=0),"",L31/J31)
B32: =IF('חישובי עזר'!M7="","",INDEX('חישובי עזר'!$A$3:$A$25,'חישובי עזר'!M7)) | C32: =IF('חישובי עזר'!M7="","",INDEX('חישובי עזר'!$C$3:$C$25,'חישובי עזר'!M7)) | D32: =IF('חישובי עזר'!M7="","",INDEX('חישובי עזר'!$D$3:$D$25,'חישובי עזר'!M7)) | E32: =IF('חישובי עזר'!M7="","",INDEX('חישובי עזר'!$E$3:$E$25,'חישובי עזר'!M7)) | F32: =IF(OR(C32="",C32=0),"",E32/C32) | H32: =IF('חישובי עזר'!N7="","",INDEX('חישובי עזר'!$A$3:$A$25,'חישובי עזר'!N7)) | J32: =IF('חישובי עזר'!N7="","",INDEX('חישובי עזר'!$C$3:$C$25,'חישובי עזר'!N7)) | K32: =IF('חישובי עזר'!N7="","",INDEX('חישובי עזר'!$D$3:$D$25,'חישובי עזר'!N7)) | L32: =IF('חישובי עזר'!N7="","",INDEX('חישובי עזר'!$E$3:$E$25,'חישובי עזר'!N7)) | M32: =IF(OR(J32="",J32=0),"",L32/J32)
B33: =IF('חישובי עזר'!M8="","",INDEX('חישובי עזר'!$A$3:$A$25,'חישובי עזר'!M8)) | C33: =IF('חישובי עזר'!M8="","",INDEX('חישובי עזר'!$C$3:$C$25,'חישובי עזר'!M8)) | D33: =IF('חישובי עזר'!M8="","",INDEX('חישובי עזר'!$D$3:$D$25,'חישובי עזר'!M8)) | E33: =IF('חישובי עזר'!M8="","",INDEX('חישובי עזר'!$E$3:$E$25,'חישובי עזר'!M8)) | F33: =IF(OR(C33="",C33=0),"",E33/C33) | H33: =IF('חישובי עזר'!N8="","",INDEX('חישובי עזר'!$A$3:$A$25,'חישובי עזר'!N8)) | J33: =IF('חישובי עזר'!N8="","",INDEX('חישובי עזר'!$C$3:$C$25,'חישובי עזר'!N8)) | K33: =IF('חישובי עזר'!N8="","",INDEX('חישובי עזר'!$D$3:$D$25,'חישובי עזר'!N8)) | L33: =IF('חישובי עזר'!N8="","",INDEX('חישובי עזר'!$E$3:$E$25,'חישובי עזר'!N8)) | M33: =IF(OR(J33="",J33=0),"",L33/J33)
B34: =IF('חישובי עזר'!M9="","",INDEX('חישובי עזר'!$A$3:$A$25,'חישובי עזר'!M9)) | C34: =IF('חישובי עזר'!M9="","",INDEX('חישובי עזר'!$C$3:$C$25,'חישובי עזר'!M9)) | D34: =IF('חישובי עזר'!M9="","",INDEX('חישובי עזר'!$D$3:$D$25,'חישובי עזר'!M9)) | E34: =IF('חישובי עזר'!M9="","",INDEX('חישובי עזר'!$E$3:$E$25,'חישובי עזר'!M9)) | F34: =IF(OR(C34="",C34=0),"",E34/C34) | H34: =IF('חישובי עזר'!N9="","",INDEX('חישובי עזר'!$A$3:$A$25,'חישובי עזר'!N9)) | J34: =IF('חישובי עזר'!N9="","",INDEX('חישובי עזר'!$C$3:$C$25,'חישובי עזר'!N9)) | K34: =IF('חישובי עזר'!N9="","",INDEX('חישובי עזר'!$D$3:$D$25,'חישובי עזר'!N9)) | L34: =IF('חישובי עזר'!N9="","",INDEX('חישובי עזר'!$E$3:$E$25,'חישובי עזר'!N9)) | M34: =IF(OR(J34="",J34=0),"",L34/J34)
B35: =IF('חישובי עזר'!M10="","",INDEX('חישובי עזר'!$A$3:$A$25,'חישובי עזר'!M10)) | C35: =IF('חישובי עזר'!M10="","",INDEX('חישובי עזר'!$C$3:$C$25,'חישובי עזר'!M10)) | D35: =IF('חישובי עזר'!M10="","",INDEX('חישובי עזר'!$D$3:$D$25,'חישובי עזר'!M10)) | E35: =IF('חישובי עזר'!M10="","",INDEX('חישובי עזר'!$E$3:$E$25,'חישובי עזר'!M10)) | F35: =IF(OR(C35="",C35=0),"",E35/C35) | H35: =IF('חישובי עזר'!N10="","",INDEX('חישובי עזר'!$A$3:$A$25,'חישובי עזר'!N10)) | J35: =IF('חישובי עזר'!N10="","",INDEX('חישובי עזר'!$C$3:$C$25,'חישובי עזר'!N10)) | K35: =IF('חישובי עזר'!N10="","",INDEX('חישובי עזר'!$D$3:$D$25,'חישובי עזר'!N10)) | L35: =IF('חישובי עזר'!N10="","",INDEX('חישובי עזר'!$E$3:$E$25,'חישובי עזר'!N10)) | M35: =IF(OR(J35="",J35=0),"",L35/J35)
B37: מגמה: חודש מול החודש הקודם
C38: ינואר | D38: פברואר | E38: מרץ | F38: אפריל | G38: מאי | H38: יוני | I38: יולי | J38: אוגוסט | K38: ספטמבר | L38: אוקטובר | M38: נובמבר | N38: דצמבר
B39: הכנסות | C39: ='חישובי עזר'!B42 -> 0 | D39: ='חישובי עזר'!B43 -> 0 | E39: ='חישובי עזר'!B44 -> 0 | F39: ='חישובי עזר'!B45 -> 0 | G39: ='חישובי עזר'!B46 -> 0 | H39: ='חישובי עזר'!B47 -> 0 | I39: ='חישובי עזר'!B48 -> 0 | J39: ='חישובי עזר'!B49 -> 0 | K39: ='חישובי עזר'!B50 -> 0 | L39: ='חישובי עזר'!B51 -> 0 | M39: ='חישובי עזר'!B52 -> 0 | N39: ='חישובי עזר'!B53 -> 0
B40: הוצאות | C40: ='חישובי עזר'!C42 -> 0 | D40: ='חישובי עזר'!C43 -> 0 | E40: ='חישובי עזר'!C44 -> 0 | F40: ='חישובי עזר'!C45 -> 0 | G40: ='חישובי עזר'!C46 -> 0 | H40: ='חישובי עזר'!C47 -> 0 | I40: ='חישובי עזר'!C48 -> 0 | J40: ='חישובי עזר'!C49 -> 0 | K40: ='חישובי עזר'!C50 -> 0 | L40: ='חישובי עזר'!C51 -> 0 | M40: ='חישובי עזר'!C52 -> 0 | N40: ='חישובי עזר'!C53 -> 0
B41: חיסכון והשקעות | C41: ='חישובי עזר'!D42 -> 0 | D41: ='חישובי עזר'!D43 -> 0 | E41: ='חישובי עזר'!D44 -> 0 | F41: ='חישובי עזר'!D45 -> 0 | G41: ='חישובי עזר'!D46 -> 0 | H41: ='חישובי עזר'!D47 -> 0 | I41: ='חישובי עזר'!D48 -> 0 | J41: ='חישובי עזר'!D49 -> 0 | K41: ='חישובי עזר'!D50 -> 0 | L41: ='חישובי עזר'!D51 -> 0 | M41: ='חישובי עזר'!D52 -> 0 | N41: ='חישובי עזר'!D53 -> 0
B42: שינוי בהכנסות מהחודש הקודם | C42: ="" | D42: =IF(OR(C39=0,D39=0),"",ROUND(D39/C39-1,2)) | E42: =IF(OR(D39=0,E39=0),"",ROUND(E39/D39-1,2)) | F42: =IF(OR(E39=0,F39=0),"",ROUND(F39/E39-1,2)) | G42: =IF(OR(F39=0,G39=0),"",ROUND(G39/F39-1,2)) | H42: =IF(OR(G39=0,H39=0),"",ROUND(H39/G39-1,2)) | I42: =IF(OR(H39=0,I39=0),"",ROUND(I39/H39-1,2)) | J42: =IF(OR(I39=0,J39=0),"",ROUND(J39/I39-1,2)) | K42: =IF(OR(J39=0,K39=0),"",ROUND(K39/J39-1,2)) | ... N42: =IF(OR(M39=0,N39=0),"",ROUND(N39/M39-1,2))
B43: שינוי בהוצאות מהחודש הקודם | C43: ="" | D43: =IF(OR(C40=0,D40=0),"",ROUND(D40/C40-1,2)) | E43: =IF(OR(D40=0,E40=0),"",ROUND(E40/D40-1,2)) | F43: =IF(OR(E40=0,F40=0),"",ROUND(F40/E40-1,2)) | G43: =IF(OR(F40=0,G40=0),"",ROUND(G40/F40-1,2)) | H43: =IF(OR(G40=0,H40=0),"",ROUND(H40/G40-1,2)) | I43: =IF(OR(H40=0,I40=0),"",ROUND(I40/H40-1,2)) | J43: =IF(OR(I40=0,J40=0),"",ROUND(J40/I40-1,2)) | K43: =IF(OR(J40=0,K40=0),"",ROUND(K40/J40-1,2)) | ... N43: =IF(OR(M40=0,N40=0),"",ROUND(N40/M40-1,2))
B46: הוכן על ידי ספיר קלרמן קומרוב – סוכנת ביטוח ופנסיה, כלכלנית וליווי כלכלי למשפחות
B47: הדוח הוא כלי עזר אישי לניהול תקציב ואינו מהווה ייעוץ פיננסי, השקעות, ביטוח או פנסיה. הנתונים והחישובים מבוססים על מה שהמשתמש מזין, וכל השימוש בקובץ ובתוצאותיו הוא על אחריות המשתמש בלבד.

Sheet חישובי עזר
A1: אזור חישוב – אין לערוך
A3: =IF('הכנסות והוצאות'!B21="",IF('הכנסות והוצאות'!O21<>0,"(ללא שם)",""),'הכנסות והוצאות'!B21) -> דיור – שכירות / משכנתא | B3: ='הכנסות והוצאות'!O21 -> 0 | C3: =INDEX('הכנסות והוצאות'!C21:N21,IdxA) -> 0 | D3: =INDEX('הכנסות והוצאות'!C21:N21,IdxB) -> 0 | E3: =D3-C3 -> 0 | F3: =IF(AND(A3<>"",E3>0),E3+ROW()/1000000,-1000000000) -> -1000000000 | G3: =IF(AND(A3<>"",E3<0),-E3+ROW()/1000000,-1000000000) -> -1000000000 | H3: =IF(AND(A3<>"",B3>0),B3+ROW()/1000000,-1000000000) -> -1000000000 | J3: IdxA | K3: =IFERROR(MATCH(CmpA,Months,0),1) -> 1 | M3: =IFERROR(IF(LARGE($F$3:$F$25,1)<0,"",MATCH(LARGE($F$3:$F$25,1),$F$3:$F$25,0)),"") | N3: =IFERROR(IF(LARGE($G$3:$G$25,1)<0,"",MATCH(LARGE($G$3:$G$25,1),$G$3:$G$25,0)),"") | O3: =IFERROR(IF(LARGE($H$3:$H$25,1)<0,"",MATCH(LARGE($H$3:$H$25,1),$H$3:$H$25,0)),"") | P3: =IFERROR(IF(LARGE($H$30:$H$37,1)<0,"",MATCH(LARGE($H$30:$H$37,1),$H$30:$H$37,0)),"")
A4: =IF('הכנסות והוצאות'!B22="",IF('הכנסות והוצאות'!O22<>0,"(ללא שם)",""),'הכנסות והוצאות'!B22) -> ארנונה וועד בית | B4: ='הכנסות והוצאות'!O22 -> 0 | C4: =INDEX('הכנסות והוצאות'!C22:N22,IdxA) -> 0 | D4: =INDEX('הכנסות והוצאות'!C22:N22,IdxB) -> 0 | E4: =D4-C4 -> 0 | F4: =IF(AND(A4<>"",E4>0),E4+ROW()/1000000,-1000000000) -> -1000000000 | G4: =IF(AND(A4<>"",E4<0),-E4+ROW()/1000000,-1000000000) -> -1000000000 | H4: =IF(AND(A4<>"",B4>0),B4+ROW()/1000000,-1000000000) -> -1000000000 | J4: IdxB | K4: =IFERROR(MATCH(CmpB,Months,0),2) -> 2 | M4: =IFERROR(IF(LARGE($F$3:$F$25,2)<0,"",MATCH(LARGE($F$3:$F$25,2),$F$3:$F$25,0)),"") | N4: =IFERROR(IF(LARGE($G$3:$G$25,2)<0,"",MATCH(LARGE($G$3:$G$25,2),$G$3:$G$25,0)),"") | O4: =IFERROR(IF(LARGE($H$3:$H$25,2)<0,"",MATCH(LARGE($H$3:$H$25,2),$H$3:$H$25,0)),"") | P4: =IFERROR(IF(LARGE($H$30:$H$37,2)<0,"",MATCH(LARGE($H$30:$H$37,2),$H$30:$H$37,0)),"")
A5: =IF('הכנסות והוצאות'!B23="",IF('הכנסות והוצאות'!O23<>0,"(ללא שם)",""),'הכנסות והוצאות'!B23) -> חשמל, מים וגז | B5: ='הכנסות והוצאות'!O23 -> 0 | C5: =INDEX('הכנסות והוצאות'!C23:N23,IdxA) -> 0 | D5: =INDEX('הכנסות והוצאות'!C23:N23,IdxB) -> 0 | E5: =D5-C5 -> 0 | F5: =IF(AND(A5<>"",E5>0),E5+ROW()/1000000,-1000000000) -> -1000000000 | G5: =IF(AND(A5<>"",E5<0),-E5+ROW()/1000000,-1000000000) -> -1000000000 | H5: =IF(AND(A5<>"",B5>0),B5+ROW()/1000000,-1000000000) -> -1000000000 | J5: ActiveM | K5: =SUM(H42:H53) -> 0 | M5: =IFERROR(IF(LARGE($F$3:$F$25,3)<0,"",MATCH(LARGE($F$3:$F$25,3),$F$3:$F$25,0)),"") | N5: =IFERROR(IF(LARGE($G$3:$G$25,3)<0,"",MATCH(LARGE($G$3:$G$25,3),$G$3:$G$25,0)),"") | O5: =IFERROR(IF(LARGE($H$3:$H$25,3)<0,"",MATCH(LARGE($H$3:$H$25,3),$H$3:$H$25,0)),"") | P5: =IFERROR(IF(LARGE($H$30:$H$37,3)<0,"",MATCH(LARGE($H$30:$H$37,3),$H$30:$H$37,0)),"")
A6: =IF('הכנסות והוצאות'!B24="",IF('הכנסות והוצאות'!O24<>0,"(ללא שם)",""),'הכנסות והוצאות'!B24) -> תקשורת ואינטרנט | B6: ='הכנסות והוצאות'!O24 -> 0 | C6: =INDEX('הכנסות והוצאות'!C24:N24,IdxA) -> 0 | D6: =INDEX('הכנסות והוצאות'!C24:N24,IdxB) -> 0 | E6: =D6-C6 -> 0 | F6: =IF(AND(A6<>"",E6>0),E6+ROW()/1000000,-1000000000) -> -1000000000 | G6: =IF(AND(A6<>"",E6<0),-E6+ROW()/1000000,-1000000000) -> -1000000000 | H6: =IF(AND(A6<>"",B6>0),B6+ROW()/1000000,-1000000000) -> -1000000000 | J6: LastIdx | K6: =SUMPRODUCT(MAX(H42:H53*(ROW(H42:H53)-41))) -> 0 | M6: =IFERROR(IF(LARGE($F$3:$F$25,4)<0,"",MATCH(LARGE($F$3:$F$25,4),$F$3:$F$25,0)),"") | N6: =IFERROR(IF(LARGE($G$3:$G$25,4)<0,"",MATCH(LARGE($G$3:$G$25,4),$G$3:$G$25,0)),"") | O6: =IFERROR(IF(LARGE($H$3:$H$25,4)<0,"",MATCH(LARGE($H$3:$H$25,4),$H$3:$H$25,0)),"") | P6: =IFERROR(IF(LARGE($H$30:$H$37,4)<0,"",MATCH(LARGE($H$30:$H$37,4),$H$30:$H$37,0)),"")
A7: =IF('הכנסות והוצאות'!B25="",IF('הכנסות והוצאות'!O25<>0,"(ללא שם)",""),'הכנסות והוצאות'!B25) -> ביטוחים | B7: ='הכנסות והוצאות'!O25 -> 0 | C7: =INDEX('הכנסות והוצאות'!C25:N25,IdxA) -> 0 | D7: =INDEX('הכנסות והוצאות'!C25:N25,IdxB) -> 0 | E7: =D7-C7 -> 0 | F7: =IF(AND(A7<>"",E7>0),E7+ROW()/1000000,-1000000000) -> -1000000000 | G7: =IF(AND(A7<>"",E7<0),-E7+ROW()/1000000,-1000000000) -> -1000000000 | H7: =IF(AND(A7<>"",B7>0),B7+ROW()/1000000,-1000000000) -> -1000000000 | M7: =IFERROR(IF(LARGE($F$3:$F$25,5)<0,"",MATCH(LARGE($F$3:$F$25,5),$F$3:$F$25,0)),"") | N7: =IFERROR(IF(LARGE($G$3:$G$25,5)<0,"",MATCH(LARGE($G$3:$G$25,5),$G$3:$G$25,0)),"") | O7: =IFERROR(IF(LARGE($H$3:$H$25,5)<0,"",MATCH(LARGE($H$3:$H$25,5),$H$3:$H$25,0)),"") | P7: =IFERROR(IF(LARGE($H$30:$H$37,5)<0,"",MATCH(LARGE($H$30:$H$37,5),$H$30:$H$37,0)),"")
A8: =IF('הכנסות והוצאות'!B26="",IF('הכנסות והוצאות'!O26<>0,"(ללא שם)",""),'הכנסות והוצאות'!B26) -> גן, צהרון וחוגים | B8: ='הכנסות והוצאות'!O26 -> 0 | C8: =INDEX('הכנסות והוצאות'!C26:N26,IdxA) -> 0 | D8: =INDEX('הכנסות והוצאות'!C26:N26,IdxB) -> 0 | E8: =D8-C8 -> 0 | F8: =IF(AND(A8<>"",E8>0),E8+ROW()/1000000,-1000000000) -> -1000000000 | G8: =IF(AND(A8<>"",E8<0),-E8+ROW()/1000000,-1000000000) -> -1000000000 | H8: =IF(AND(A8<>"",B8>0),B8+ROW()/1000000,-1000000000) -> -1000000000 | M8: =IFERROR(IF(LARGE($F$3:$F$25,6)<0,"",MATCH(LARGE($F$3:$F$25,6),$F$3:$F$25,0)),"") | N8: =IFERROR(IF(LARGE($G$3:$G$25,6)<0,"",MATCH(LARGE($G$3:$G$25,6),$G$3:$G$25,0)),"") | O8: =IFERROR(IF(LARGE($H$3:$H$25,6)<0,"",MATCH(LARGE($H$3:$H$25,6),$H$3:$H$25,0)),"") | P8: =IFERROR(IF(LARGE($H$30:$H$37,6)<0,"",MATCH(LARGE($H$30:$H$37,6),$H$30:$H$37,0)),"")
A9: =IF('הכנסות והוצאות'!B27="",IF('הכנסות והוצאות'!O27<>0,"(ללא שם)",""),'הכנסות והוצאות'!B27) -> מנויים ושירותים דיגיטליים | B9: ='הכנסות והוצאות'!O27 -> 0 | C9: =INDEX('הכנסות והוצאות'!C27:N27,IdxA) -> 0 | D9: =INDEX('הכנסות והוצאות'!C27:N27,IdxB) -> 0 | E9: =D9-C9 -> 0 | F9: =IF(AND(A9<>"",E9>0),E9+ROW()/1000000,-1000000000) -> -1000000000 | G9: =IF(AND(A9<>"",E9<0),-E9+ROW()/1000000,-1000000000) -> -1000000000 | H9: =IF(AND(A9<>"",B9>0),B9+ROW()/1000000,-1000000000) -> -1000000000 | M9: =IFERROR(IF(LARGE($F$3:$F$25,7)<0,"",MATCH(LARGE($F$3:$F$25,7),$F$3:$F$25,0)),"") | N9: =IFERROR(IF(LARGE($G$3:$G$25,7)<0,"",MATCH(LARGE($G$3:$G$25,7),$G$3:$G$25,0)),"") | O9: =IFERROR(IF(LARGE($H$3:$H$25,7)<0,"",MATCH(LARGE($H$3:$H$25,7),$H$3:$H$25,0)),"")
A10: =IF('הכנסות והוצאות'!B28="",IF('הכנסות והוצאות'!O28<>0,"(ללא שם)",""),'הכנסות והוצאות'!B28) | B10: ='הכנסות והוצאות'!O28 -> 0 | C10: =INDEX('הכנסות והוצאות'!C28:N28,IdxA) -> 0 | D10: =INDEX('הכנסות והוצאות'!C28:N28,IdxB) -> 0 | E10: =D10-C10 -> 0 | F10: =IF(AND(A10<>"",E10>0),E10+ROW()/1000000,-1000000000) -> -1000000000 | G10: =IF(AND(A10<>"",E10<0),-E10+ROW()/1000000,-1000000000) -> -1000000000 | H10: =IF(AND(A10<>"",B10>0),B10+ROW()/1000000,-1000000000) -> -1000000000 | M10: =IFERROR(IF(LARGE($F$3:$F$25,8)<0,"",MATCH(LARGE($F$3:$F$25,8),$F$3:$F$25,0)),"") | N10: =IFERROR(IF(LARGE($G$3:$G$25,8)<0,"",MATCH(LARGE($G$3:$G$25,8),$G$3:$G$25,0)),"") | O10: =IFERROR(IF(LARGE($H$3:$H$25,8)<0,"",MATCH(LARGE($H$3:$H$25,8),$H$3:$H$25,0)),"")
A11: =IF('הכנסות והוצאות'!B32="",IF('הכנסות והוצאות'!O32<>0,"(ללא שם)",""),'הכנסות והוצאות'!B32) -> סופר ומזון | B11: ='הכנסות והוצאות'!O32 -> 0 | C11: =INDEX('הכנסות והוצאות'!C32:N32,IdxA) -> 0 | D11: =INDEX('הכנסות והוצאות'!C32:N32,IdxB) -> 0 | E11: =D11-C11 -> 0 | F11: =IF(AND(A11<>"",E11>0),E11+ROW()/1000000,-1000000000) -> -1000000000 | G11: =IF(AND(A11<>"",E11<0),-E11+ROW()/1000000,-1000000000) -> -1000000000 | H11: =IF(AND(A11<>"",B11>0),B11+ROW()/1000000,-1000000000) -> -1000000000
A12: =IF('הכנסות והוצאות'!B33="",IF('הכנסות והוצאות'!O33<>0,"(ללא שם)",""),'הכנסות והוצאות'!B33) -> תחבורה ודלק | B12: ='הכנסות והוצאות'!O33 -> 0 | C12: =INDEX('הכנסות והוצאות'!C33:N33,IdxA) -> 0 | D12: =INDEX('הכנסות והוצאות'!C33:N33,IdxB) -> 0 | E12: =D12-C12 -> 0 | F12: =IF(AND(A12<>"",E12>0),E12+ROW()/1000000,-1000000000) -> -1000000000 | G12: =IF(AND(A12<>"",E12<0),-E12+ROW()/1000000,-1000000000) -> -1000000000 | H12: =IF(AND(A12<>"",B12>0),B12+ROW()/1000000,-1000000000) -> -1000000000
A13: =IF('הכנסות והוצאות'!B34="",IF('הכנסות והוצאות'!O34<>0,"(ללא שם)",""),'הכנסות והוצאות'!B34) -> בריאות | B13: ='הכנסות והוצאות'!O34 -> 0 | C13: =INDEX('הכנסות והוצאות'!C34:N34,IdxA) -> 0 | D13: =INDEX('הכנסות והוצאות'!C34:N34,IdxB) -> 0 | E13: =D13-C13 -> 0 | F13: =IF(AND(A13<>"",E13>0),E13+ROW()/1000000,-1000000000) -> -1000000000 | G13: =IF(AND(A13<>"",E13<0),-E13+ROW()/1000000,-1000000000) -> -1000000000 | H13: =IF(AND(A13<>"",B13>0),B13+ROW()/1000000,-1000000000) -> -1000000000
A14: =IF('הכנסות והוצאות'!B35="",IF('הכנסות והוצאות'!O35<>0,"(ללא שם)",""),'הכנסות והוצאות'!B35) -> מסעדות וקפה | B14: ='הכנסות והוצאות'!O35 -> 0 | C14: =INDEX('הכנסות והוצאות'!C35:N35,IdxA) -> 0 | D14: =INDEX('הכנסות והוצאות'!C35:N35,IdxB) -> 0 | E14: =D14-C14 -> 0 | F14: =IF(AND(A14<>"",E14>0),E14+ROW()/1000000,-1000000000) -> -1000000000 | G14: =IF(AND(A14<>"",E14<0),-E14+ROW()/1000000,-1000000000) -> -1000000000 | H14: =IF(AND(A14<>"",B14>0),B14+ROW()/1000000,-1000000000) -> -1000000000
A15: =IF('הכנסות והוצאות'!B36="",IF('הכנסות והוצאות'!O36<>0,"(ללא שם)",""),'הכנסות והוצאות'!B36) -> ביגוד והנעלה | B15: ='הכנסות והוצאות'!O36 -> 0 | C15: =INDEX('הכנסות והוצאות'!C36:N36,IdxA) -> 0 | D15: =INDEX('הכנסות והוצאות'!C36:N36,IdxB) -> 0 | E15: =D15-C15 -> 0 | F15: =IF(AND(A15<>"",E15>0),E15+ROW()/1000000,-1000000000) -> -1000000000 | G15: =IF(AND(A15<>"",E15<0),-E15+ROW()/1000000,-1000000000) -> -1000000000 | H15: =IF(AND(A15<>"",B15>0),B15+ROW()/1000000,-1000000000) -> -1000000000
A16: =IF('הכנסות והוצאות'!B37="",IF('הכנסות והוצאות'!O37<>0,"(ללא שם)",""),'הכנסות והוצאות'!B37) -> בילויים ופנאי | B16: ='הכנסות והוצאות'!O37 -> 0 | C16: =INDEX('הכנסות והוצאות'!C37:N37,IdxA) -> 0 | D16: =INDEX('הכנסות והוצאות'!C37:N37,IdxB) -> 0 | E16: =D16-C16 -> 0 | F16: =IF(AND(A16<>"",E16>0),E16+ROW()/1000000,-1000000000) -> -1000000000 | G16: =IF(AND(A16<>"",E16<0),-E16+ROW()/1000000,-1000000000) -> -1000000000 | H16: =IF(AND(A16<>"",B16>0),B16+ROW()/1000000,-1000000000) -> -1000000000
A17: =IF('הכנסות והוצאות'!B38="",IF('הכנסות והוצאות'!O38<>0,"(ללא שם)",""),'הכנסות והוצאות'!B38) -> חופשות ונסיעות | B17: ='הכנסות והוצאות'!O38 -> 0 | C17: =INDEX('הכנסות והוצאות'!C38:N38,IdxA) -> 0 | D17: =INDEX('הכנסות והוצאות'!C38:N38,IdxB) -> 0 | E17: =D17-C17 -> 0 | F17: =IF(AND(A17<>"",E17>0),E17+ROW()/1000000,-1000000000) -> -1000000000 | G17: =IF(AND(A17<>"",E17<0),-E17+ROW()/1000000,-1000000000) -> -1000000000 | H17: =IF(AND(A17<>"",B17>0),B17+ROW()/1000000,-1000000000) -> -1000000000
A18: =IF('הכנסות והוצאות'!B39="",IF('הכנסות והוצאות'!O39<>0,"(ללא שם)",""),'הכנסות והוצאות'!B39) -> בית ותחזוקה | B18: ='הכנסות והוצאות'!O39 -> 0 | C18: =INDEX('הכנסות והוצאות'!C39:N39,IdxA) -> 0 | D18: =INDEX('הכנסות והוצאות'!C39:N39,IdxB) -> 0 | E18: =D18-C18 -> 0 | F18: =IF(AND(A18<>"",E18>0),E18+ROW()/1000000,-1000000000) -> -1000000000 | G18: =IF(AND(A18<>"",E18<0),-E18+ROW()/1000000,-1000000000) -> -1000000000 | H18: =IF(AND(A18<>"",B18>0),B18+ROW()/1000000,-1000000000) -> -1000000000
A19: =IF('הכנסות והוצאות'!B40="",IF('הכנסות והוצאות'!O40<>0,"(ללא שם)",""),'הכנסות והוצאות'!B40) -> טיפוח ויופי | B19: ='הכנסות והוצאות'!O40 -> 0 | C19: =INDEX('הכנסות והוצאות'!C40:N40,IdxA) -> 0 | D19: =INDEX('הכנסות והוצאות'!C40:N40,IdxB) -> 0 | E19: =D19-C19 -> 0 | F19: =IF(AND(A19<>"",E19>0),E19+ROW()/1000000,-1000000000) -> -1000000000 | G19: =IF(AND(A19<>"",E19<0),-E19+ROW()/1000000,-1000000000) -> -1000000000 | H19: =IF(AND(A19<>"",B19>0),B19+ROW()/1000000,-1000000000) -> -1000000000
A20: =IF('הכנסות והוצאות'!B41="",IF('הכנסות והוצאות'!O41<>0,"(ללא שם)",""),'הכנסות והוצאות'!B41) -> מתנות ותרומות | B20: ='הכנסות והוצאות'!O41 -> 0 | C20: =INDEX('הכנסות והוצאות'!C41:N41,IdxA) -> 0 | D20: =INDEX('הכנסות והוצאות'!C41:N41,IdxB) -> 0 | E20: =D20-C20 -> 0 | F20: =IF(AND(A20<>"",E20>0),E20+ROW()/1000000,-1000000000) -> -1000000000 | G20: =IF(AND(A20<>"",E20<0),-E20+ROW()/1000000,-1000000000) -> -1000000000 | H20: =IF(AND(A20<>"",B20>0),B20+ROW()/1000000,-1000000000) -> -1000000000
A21: =IF('הכנסות והוצאות'!B42="",IF('הכנסות והוצאות'!O42<>0,"(ללא שם)",""),'הכנסות והוצאות'!B42) -> אחר / לא צפוי | B21: ='הכנסות והוצאות'!O42 -> 0 | C21: =INDEX('הכנסות והוצאות'!C42:N42,IdxA) -> 0 | D21: =INDEX('הכנסות והוצאות'!C42:N42,IdxB) -> 0 | E21: =D21-C21 -> 0 | F21: =IF(AND(A21<>"",E21>0),E21+ROW()/1000000,-1000000000) -> -1000000000 | G21: =IF(AND(A21<>"",E21<0),-E21+ROW()/1000000,-1000000000) -> -1000000000 | H21: =IF(AND(A21<>"",B21>0),B21+ROW()/1000000,-1000000000) -> -1000000000
A22: =IF('הכנסות והוצאות'!B43="",IF('הכנסות והוצאות'!O43<>0,"(ללא שם)",""),'הכנסות והוצאות'!B43) | B22: ='הכנסות והוצאות'!O43 -> 0 | C22: =INDEX('הכנסות והוצאות'!C43:N43,IdxA) -> 0 | D22: =INDEX('הכנסות והוצאות'!C43:N43,IdxB) -> 0 | E22: =D22-C22 -> 0 | F22: =IF(AND(A22<>"",E22>0),E22+ROW()/1000000,-1000000000) -> -1000000000 | G22: =IF(AND(A22<>"",E22<0),-E22+ROW()/1000000,-1000000000) -> -1000000000 | H22: =IF(AND(A22<>"",B22>0),B22+ROW()/1000000,-1000000000) -> -1000000000
A23: =IF('הכנסות והוצאות'!B47="",IF('הכנסות והוצאות'!O47<>0,"(ללא שם)",""),'הכנסות והוצאות'!B47) -> הלוואה בנקאית | B23: ='הכנסות והוצאות'!O47 -> 0 | C23: =INDEX('הכנסות והוצאות'!C47:N47,IdxA) -> 0 | D23: =INDEX('הכנסות והוצאות'!C47:N47,IdxB) -> 0 | E23: =D23-C23 -> 0 | F23: =IF(AND(A23<>"",E23>0),E23+ROW()/1000000,-1000000000) -> -1000000000 | G23: =IF(AND(A23<>"",E23<0),-E23+ROW()/1000000,-1000000000) -> -1000000000 | H23: =IF(AND(A23<>"",B23>0),B23+ROW()/1000000,-1000000000) -> -1000000000
A24: =IF('הכנסות והוצאות'!B48="",IF('הכנסות והוצאות'!O48<>0,"(ללא שם)",""),'הכנסות והוצאות'!B48) -> החזר תשלומים / כרטיס אשראי | B24: ='הכנסות והוצאות'!O48 -> 0 | C24: =INDEX('הכנסות והוצאות'!C48:N48,IdxA) -> 0 | D24: =INDEX('הכנסות והוצאות'!C48:N48,IdxB) -> 0 | E24: =D24-C24 -> 0 | F24: =IF(AND(A24<>"",E24>0),E24+ROW()/1000000,-1000000000) -> -1000000000 | G24: =IF(AND(A24<>"",E24<0),-E24+ROW()/1000000,-1000000000) -> -1000000000 | H24: =IF(AND(A24<>"",B24>0),B24+ROW()/1000000,-1000000000) -> -1000000000
A25: =IF('הכנסות והוצאות'!B49="",IF('הכנסות והוצאות'!O49<>0,"(ללא שם)",""),'הכנסות והוצאות'!B49) | B25: ='הכנסות והוצאות'!O49 -> 0 | C25: =INDEX('הכנסות והוצאות'!C49:N49,IdxA) -> 0 | D25: =INDEX('הכנסות והוצאות'!C49:N49,IdxB) -> 0 | E25: =D25-C25 -> 0 | F25: =IF(AND(A25<>"",E25>0),E25+ROW()/1000000,-1000000000) -> -1000000000 | G25: =IF(AND(A25<>"",E25<0),-E25+ROW()/1000000,-1000000000) -> -1000000000 | H25: =IF(AND(A25<>"",B25>0),B25+ROW()/1000000,-1000000000) -> -1000000000
A30: =IF('הכנסות והוצאות'!B10="",IF('הכנסות והוצאות'!O10<>0,"(ללא שם)",""),'הכנסות והוצאות'!B10) -> משכורת (ראשי) | B30: ='הכנסות והוצאות'!O10 -> 0 | H30: =IF(AND(A30<>"",B30>0),B30+ROW()/1000000,-1000000000) -> -1000000000
A31: =IF('הכנסות והוצאות'!B11="",IF('הכנסות והוצאות'!O11<>0,"(ללא שם)",""),'הכנסות והוצאות'!B11) -> משכורת (בן/בת זוג) | B31: ='הכנסות והוצאות'!O11 -> 0 | H31: =IF(AND(A31<>"",B31>0),B31+ROW()/1000000,-1000000000) -> -1000000000
A32: =IF('הכנסות והוצאות'!B12="",IF('הכנסות והוצאות'!O12<>0,"(ללא שם)",""),'הכנסות והוצאות'!B12) -> הכנסה מעסק / עבודה צדדית | B32: ='הכנסות והוצאות'!O12 -> 0 | H32: =IF(AND(A32<>"",B32>0),B32+ROW()/1000000,-1000000000) -> -1000000000
A33: =IF('הכנסות והוצאות'!B13="",IF('הכנסות והוצאות'!O13<>0,"(ללא שם)",""),'הכנסות והוצאות'!B13) -> קצבאות | B33: ='הכנסות והוצאות'!O13 -> 0 | H33: =IF(AND(A33<>"",B33>0),B33+ROW()/1000000,-1000000000) -> -1000000000
A34: =IF('הכנסות והוצאות'!B14="",IF('הכנסות והוצאות'!O14<>0,"(ללא שם)",""),'הכנסות והוצאות'!B14) -> הכנסה משכירות | B34: ='הכנסות והוצאות'!O14 -> 0 | H34: =IF(AND(A34<>"",B34>0),B34+ROW()/1000000,-1000000000) -> -1000000000
A35: =IF('הכנסות והוצאות'!B15="",IF('הכנסות והוצאות'!O15<>0,"(ללא שם)",""),'הכנסות והוצאות'!B15) -> ריבית והשקעות | B35: ='הכנסות והוצאות'!O15 -> 0 | H35: =IF(AND(A35<>"",B35>0),B35+ROW()/1000000,-1000000000) -> -1000000000
A36: =IF('הכנסות והוצאות'!B16="",IF('הכנסות והוצאות'!O16<>0,"(ללא שם)",""),'הכנסות והוצאות'!B16) -> אחר / החזרי מס | B36: ='הכנסות והוצאות'!O16 -> 0 | H36: =IF(AND(A36<>"",B36>0),B36+ROW()/1000000,-1000000000) -> -1000000000
A37: =IF('הכנסות והוצאות'!B17="",IF('הכנסות והוצאות'!O17<>0,"(ללא שם)",""),'הכנסות והוצאות'!B17) | B37: ='הכנסות והוצאות'!O17 -> 0 | H37: =IF(AND(A37<>"",B37>0),B37+ROW()/1000000,-1000000000) -> -1000000000
A41: חודש | B41: הכנסות | C41: הוצאות | D41: חיסכון | E41: יתרה פנויה | F41: שיעור חיסכון | G41: נשאר | H41: פעיל | I41: הכנסות מצטבר | J41: הוצאות מצטבר | K41: נטו מצטבר
A42: ינואר | B42: ='הכנסות והוצאות'!C18 -> 0 | C42: ='הכנסות והוצאות'!C59 -> 0 | D42: ='הכנסות והוצאות'!C57 -> 0 | E42: ='הכנסות והוצאות'!C61 -> 0 | F42: ='הכנסות והוצאות'!C62 -> 0 | G42: ='הכנסות והוצאות'!C60 -> 0 | H42: =IF(B42+C42+D42>0,1,0) -> 0 | I42: =IF(1>LastIdx,0,SUM(B$42:B42)) -> 0 | J42: =IF(1>LastIdx,0,SUM(C$42:C42)) -> 0 | K42: =IF(1>LastIdx,0,SUM(G$42:G42)) -> 0
A43: פברואר | B43: ='הכנסות והוצאות'!D18 -> 0 | C43: ='הכנסות והוצאות'!D59 -> 0 | D43: ='הכנסות והוצאות'!D57 -> 0 | E43: ='הכנסות והוצאות'!D61 -> 0 | F43: ='הכנסות והוצאות'!D62 -> 0 | G43: ='הכנסות והוצאות'!D60 -> 0 | H43: =IF(B43+C43+D43>0,1,0) -> 0 | I43: =IF(2>LastIdx,0,SUM(B$42:B43)) -> 0 | J43: =IF(2>LastIdx,0,SUM(C$42:C43)) -> 0 | K43: =IF(2>LastIdx,0,SUM(G$42:G43)) -> 0
A44: מרץ | B44: ='הכנסות והוצאות'!E18 -> 0 | C44: ='הכנסות והוצאות'!E59 -> 0 | D44: ='הכנסות והוצאות'!E57 -> 0 | E44: ='הכנסות והוצאות'!E61 -> 0 | F44: ='הכנסות והוצאות'!E62 -> 0 | G44: ='הכנסות והוצאות'!E60 -> 0 | H44: =IF(B44+C44+D44>0,1,0) -> 0 | I44: =IF(3>LastIdx,0,SUM(B$42:B44)) -> 0 | J44: =IF(3>LastIdx,0,SUM(C$42:C44)) -> 0 | K44: =IF(3>LastIdx,0,SUM(G$42:G44)) -> 0
A45: אפריל | B45: ='הכנסות והוצאות'!F18 -> 0 | C45: ='הכנסות והוצאות'!F59 -> 0 | D45: ='הכנסות והוצאות'!F57 -> 0 | E45: ='הכנסות והוצאות'!F61 -> 0 | F45: ='הכנסות והוצאות'!F62 -> 0 | G45: ='הכנסות והוצאות'!F60 -> 0 | H45: =IF(B45+C45+D45>0,1,0) -> 0 | I45: =IF(4>LastIdx,0,SUM(B$42:B45)) -> 0 | J45: =IF(4>LastIdx,0,SUM(C$42:C45)) -> 0 | K45: =IF(4>LastIdx,0,SUM(G$42:G45)) -> 0
A46: מאי | B46: ='הכנסות והוצאות'!G18 -> 0 | C46: ='הכנסות והוצאות'!G59 -> 0 | D46: ='הכנסות והוצאות'!G57 -> 0 | E46: ='הכנסות והוצאות'!G61 -> 0 | F46: ='הכנסות והוצאות'!G62 -> 0 | G46: ='הכנסות והוצאות'!G60 -> 0 | H46: =IF(B46+C46+D46>0,1,0) -> 0 | I46: =IF(5>LastIdx,0,SUM(B$42:B46)) -> 0 | J46: =IF(5>LastIdx,0,SUM(C$42:C46)) -> 0 | K46: =IF(5>LastIdx,0,SUM(G$42:G46)) -> 0
A47: יוני | B47: ='הכנסות והוצאות'!H18 -> 0 | C47: ='הכנסות והוצאות'!H59 -> 0 | D47: ='הכנסות והוצאות'!H57 -> 0 | E47: ='הכנסות והוצאות'!H61 -> 0 | F47: ='הכנסות והוצאות'!H62 -> 0 | G47: ='הכנסות והוצאות'!H60 -> 0 | H47: =IF(B47+C47+D47>0,1,0) -> 0 | I47: =IF(6>LastIdx,0,SUM(B$42:B47)) -> 0 | J47: =IF(6>LastIdx,0,SUM(C$42:C47)) -> 0 | K47: =IF(6>LastIdx,0,SUM(G$42:G47)) -> 0
A48: יולי | B48: ='הכנסות והוצאות'!I18 -> 0 | C48: ='הכנסות והוצאות'!I59 -> 0 | D48: ='הכנסות והוצאות'!I57 -> 0 | E48: ='הכנסות והוצאות'!I61 -> 0 | F48: ='הכנסות והוצאות'!I62 -> 0 | G48: ='הכנסות והוצאות'!I60 -> 0 | H48: =IF(B48+C48+D48>0,1,0) -> 0 | I48: =IF(7>LastIdx,0,SUM(B$42:B48)) -> 0 | J48: =IF(7>LastIdx,0,SUM(C$42:C48)) -> 0 | K48: =IF(7>LastIdx,0,SUM(G$42:G48)) -> 0
A49: אוגוסט | B49: ='הכנסות והוצאות'!J18 -> 0 | C49: ='הכנסות והוצאות'!J59 -> 0 | D49: ='הכנסות והוצאות'!J57 -> 0 | E49: ='הכנסות והוצאות'!J61 -> 0 | F49: ='הכנסות והוצאות'!J62 -> 0 | G49: ='הכנסות והוצאות'!J60 -> 0 | H49: =IF(B49+C49+D49>0,1,0) -> 0 | I49: =IF(8>LastIdx,0,SUM(B$42:B49)) -> 0 | J49: =IF(8>LastIdx,0,SUM(C$42:C49)) -> 0 | K49: =IF(8>LastIdx,0,SUM(G$42:G49)) -> 0
A50: ספטמבר | B50: ='הכנסות והוצאות'!K18 -> 0 | C50: ='הכנסות והוצאות'!K59 -> 0 | D50: ='הכנסות והוצאות'!K57 -> 0 | E50: ='הכנסות והוצאות'!K61 -> 0 | F50: ='הכנסות והוצאות'!K62 -> 0 | G50: ='הכנסות והוצאות'!K60 -> 0 | H50: =IF(B50+C50+D50>0,1,0) -> 0 | I50: =IF(9>LastIdx,0,SUM(B$42:B50)) -> 0 | J50: =IF(9>LastIdx,0,SUM(C$42:C50)) -> 0 | K50: =IF(9>LastIdx,0,SUM(G$42:G50)) -> 0
A51: אוקטובר | B51: ='הכנסות והוצאות'!L18 -> 0 | C51: ='הכנסות והוצאות'!L59 -> 0 | D51: ='הכנסות והוצאות'!L57 -> 0 | E51: ='הכנסות והוצאות'!L61 -> 0 | F51: ='הכנסות והוצאות'!L62 -> 0 | G51: ='הכנסות והוצאות'!L60 -> 0 | H51: =IF(B51+C51+D51>0,1,0) -> 0 | I51: =IF(10>LastIdx,0,SUM(B$42:B51)) -> 0 | J51: =IF(10>LastIdx,0,SUM(C$42:C51)) -> 0 | K51: =IF(10>LastIdx,0,SUM(G$42:G51)) -> 0
A52: נובמבר | B52: ='הכנסות והוצאות'!M18 -> 0 | C52: ='הכנסות והוצאות'!M59 -> 0 | D52: ='הכנסות והוצאות'!M57 -> 0 | E52: ='הכנסות והוצאות'!M61 -> 0 | F52: ='הכנסות והוצאות'!M62 -> 0 | G52: ='הכנסות והוצאות'!M60 -> 0 | H52: =IF(B52+C52+D52>0,1,0) -> 0 | I52: =IF(11>LastIdx,0,SUM(B$42:B52)) -> 0 | J52: =IF(11>LastIdx,0,SUM(C$42:C52)) -> 0 | K52: =IF(11>LastIdx,0,SUM(G$42:G52)) -> 0
A53: דצמבר | B53: ='הכנסות והוצאות'!N18 -> 0 | C53: ='הכנסות והוצאות'!N59 -> 0 | D53: ='הכנסות והוצאות'!N57 -> 0 | E53: ='הכנסות והוצאות'!N61 -> 0 | F53: ='הכנסות והוצאות'!N62 -> 0 | G53: ='הכנסות והוצאות'!N60 -> 0 | H53: =IF(B53+C53+D53>0,1,0) -> 0 | I53: =IF(12>LastIdx,0,SUM(B$42:B53)) -> 0 | J53: =IF(12>LastIdx,0,SUM(C$42:C53)) -> 0 | K53: =IF(12>LastIdx,0,SUM(G$42:G53)) -> 0
A57: קבוצה | B57: ינואר | C57: פברואר | D57: מרץ | E57: אפריל | F57: מאי | G57: יוני | H57: יולי | I57: אוגוסט | J57: ספטמבר | K57: אוקטובר | L57: נובמבר | M57: דצמבר
A58: הוצאות קבועות | B58: ='הכנסות והוצאות'!C29 -> 0 | C58: ='הכנסות והוצאות'!D29 -> 0 | D58: ='הכנסות והוצאות'!E29 -> 0 | E58: ='הכנסות והוצאות'!F29 -> 0 | F58: ='הכנסות והוצאות'!G29 -> 0 | G58: ='הכנסות והוצאות'!H29 -> 0 | H58: ='הכנסות והוצאות'!I29 -> 0 | I58: ='הכנסות והוצאות'!J29 -> 0 | ... M58: ='הכנסות והוצאות'!N29 -> 0
A59: הוצאות משתנות | B59: ='הכנסות והוצאות'!C44 -> 0 | C59: ='הכנסות והוצאות'!D44 -> 0 | D59: ='הכנסות והוצאות'!E44 -> 0 | E59: ='הכנסות והוצאות'!F44 -> 0 | F59: ='הכנסות והוצאות'!G44 -> 0 | G59: ='הכנסות והוצאות'!H44 -> 0 | H59: ='הכנסות והוצאות'!I44 -> 0 | I59: ='הכנסות והוצאות'!J44 -> 0 | ... M59: ='הכנסות והוצאות'!N44 -> 0
A60: הלוואות וחובות | B60: ='הכנסות והוצאות'!C50 -> 0 | C60: ='הכנסות והוצאות'!D50 -> 0 | D60: ='הכנסות והוצאות'!E50 -> 0 | E60: ='הכנסות והוצאות'!F50 -> 0 | F60: ='הכנסות והוצאות'!G50 -> 0 | G60: ='הכנסות והוצאות'!H50 -> 0 | H60: ='הכנסות והוצאות'!I50 -> 0 | I60: ='הכנסות והוצאות'!J50 -> 0 | ... M60: ='הכנסות והוצאות'!N50 -> 0
A61: חיסכון והשקעות | B61: ='הכנסות והוצאות'!C57 -> 0 | C61: ='הכנסות והוצאות'!D57 -> 0 | D61: ='הכנסות והוצאות'!E57 -> 0 | E61: ='הכנסות והוצאות'!F57 -> 0 | F61: ='הכנסות והוצאות'!G57 -> 0 | G61: ='הכנסות והוצאות'!H57 -> 0 | H61: ='הכנסות והוצאות'!I57 -> 0 | I61: ='הכנסות והוצאות'!J57 -> 0 | ... M61: ='הכנסות והוצאות'!N57 -> 0
